BEGIN:VCALENDAR
VERSION:2.0
PRODID:-//Blueprint Ministries - ECPv4.7.3//NONSGML v1.0//EN
CALSCALE:GREGORIAN
METHOD:PUBLISH
X-WR-CALNAME:Blueprint Ministries
X-ORIGINAL-URL:https://www.blueprintministries.org.au
X-WR-CALDESC:Events for Blueprint Ministries
BEGIN:VEVENT
DTSTART;VALUE=DATE:20180709
DTEND;VALUE=DATE:20180714
DTSTAMP:20190228T120421
CREATED:20170706T070149Z
LAST-MODIFIED:20170706T070149Z
UID:1069-1531094400-1531526399@www.blueprintministries.org.au
SUMMARY:Barossa Christian Life Week
DESCRIPTION:\nWhen & Where is it?\n9TH – 13TH JULY 2018\nUNITY COLLEGE\, MURRAY BRIDGE\n\nWhat is it?\nCHRISTIAN LIFE WEEK IS A FIVE DAY CAMP FOR HIGH SCHOOL AGED STUDENTS CENTERED ON AN UNFORGETTABLE EXPERIENCE OF FAITH\, FRIENDSHIP AND FUN!\n\nWhat is the theme?\n2018 THEME COMING SOON!\n\nHow much does it cost?\nTBA. WATCH THIS SPACE\n\nSubsidies are available. Please contact us to discuss your situation\n\n\nWhat merch is available this year?\nWe’ll let you know ASAP\nSee Facebook for details and sizing\nHow do I get there?\nBus transportation to and from camp is included in the camp fee.\nPick up at 8:30am Monday and drop off at 5pm on Friday at Faith Lutheran College.\nPlease indicate when registering if you would like this service.\n**Bus times are subject to change and will be confirmed in the “what to bring” list pre-camp**\nWhat about leaders?\nAll leaders must complete an Expression of Interest to attend Barossa CLW prior to registering.\nYou can find this here\nPlease contact Camp Directors with any questions\n\nContact us\nbarossaclw@blueprintministries.org.au\nfind us on facebook!\n\n
URL:https://www.blueprintministries.org.au/event/barossa-clw/
LOCATION:Unity College\, Murray Bridge\, 45 Owl Drive\, Murray Bridge\, SA\, 5253\, Australia
END:VEVENT
END:VCALENDAR